BEGIN:VCALENDAR
VERSION:2.0
PRODID:spatie/icalendar-generator
DESCRIPTION:Events from Omaha Presbyterian Seminary Foundation
X-WR-CALDESC:Events from Omaha Presbyterian Seminary Foundation
REFRESH-INTERVAL;VALUE=DURATION:PT1440M
X-PUBLISHED-TTL:PT1440M
BEGIN:VTIMEZONE
TZID:America/Chicago
BEGIN:STANDARD
DTSTART:20251102T020000Z
TZOFFSETFROM:-0500
TZOFFSETTO:-0600
END:STANDARD
BEGIN:DAYLIGHT
DTSTART:20260308T020000Z
TZOFFSETFROM:-0600
TZOFFSETTO:-0500
END:DAYLIGHT
END:VTIMEZONE
BEGIN:VTIMEZONE
TZID:UTC
BEGIN:STANDARD
DTSTART:20250729T135450Z
TZOFFSETFROM:+0000
TZOFFSETTO:+0000
END:STANDARD
END:VTIMEZONE
BEGIN:VEVENT
UID:946-294
DTSTAMP:20260425T135450Z
SUMMARY:Board of Directors Meeting
LOCATION:
ORGANIZER;CN=OPSF:MAILTO:communications@opsf-omaha.org
DTSTART;TZID=America/Chicago;VALUE=DATE:20260417
DTEND;TZID=America/Chicago;VALUE=DATE:20260418
X-ALT-DESC;FMTTYPE=TEXT/HTML:OPSF's Board of Directors will gather for the 
 next meeting to plan\, discern\, and direct our ministries.
CATEGORIES:Board
URL;VALUE=URI:https://omahapresbyterianseminaryfoundation.org/mc-events/boa
 rd-of-directors-meeting-2/
METHOD:PUBLISH
END:VEVENT
END:VCALENDAR